BEGIN:VCALENDAR
VERSION:2.0
PRODID:-//Digital Therapeutics Hub - ECPv6.15.20//NONSGML v1.0//EN
CALSCALE:GREGORIAN
METHOD:PUBLISH
X-ORIGINAL-URL:https://dtxhub.com
X-WR-CALDESC:Events for Digital Therapeutics Hub
REFRESH-INTERVAL;VALUE=DURATION:PT1H
X-Robots-Tag:noindex
X-PUBLISHED-TTL:PT1H
BEGIN:VTIMEZONE
TZID:Europe/Paris
BEGIN:DAYLIGHT
TZOFFSETFROM:+0100
TZOFFSETTO:+0200
TZNAME:CEST
DTSTART:20250330T010000
END:DAYLIGHT
BEGIN:STANDARD
TZOFFSETFROM:+0200
TZOFFSETTO:+0100
TZNAME:CET
DTSTART:20251026T010000
END:STANDARD
BEGIN:DAYLIGHT
TZOFFSETFROM:+0100
TZOFFSETTO:+0200
TZNAME:CEST
DTSTART:20260329T010000
END:DAYLIGHT
BEGIN:STANDARD
TZOFFSETFROM:+0200
TZOFFSETTO:+0100
TZNAME:CET
DTSTART:20261025T010000
END:STANDARD
BEGIN:DAYLIGHT
TZOFFSETFROM:+0100
TZOFFSETTO:+0200
TZNAME:CEST
DTSTART:20270328T010000
END:DAYLIGHT
BEGIN:STANDARD
TZOFFSETFROM:+0200
TZOFFSETTO:+0100
TZNAME:CET
DTSTART:20271031T010000
END:STANDARD
END:VTIMEZONE
BEGIN:VTIMEZONE
TZID:Europe/Moscow
BEGIN:STANDARD
TZOFFSETFROM:+0300
TZOFFSETTO:+0300
TZNAME:MSK
DTSTART:20240101T000000
END:STANDARD
END:VTIMEZONE
BEGIN:VTIMEZONE
TZID:Europe/London
BEGIN:DAYLIGHT
TZOFFSETFROM:+0000
TZOFFSETTO:+0100
TZNAME:BST
DTSTART:20240331T010000
END:DAYLIGHT
BEGIN:STANDARD
TZOFFSETFROM:+0100
TZOFFSETTO:+0000
TZNAME:GMT
DTSTART:20241027T010000
END:STANDARD
BEGIN:DAYLIGHT
TZOFFSETFROM:+0000
TZOFFSETTO:+0100
TZNAME:BST
DTSTART:20250330T010000
END:DAYLIGHT
BEGIN:STANDARD
TZOFFSETFROM:+0100
TZOFFSETTO:+0000
TZNAME:GMT
DTSTART:20251026T010000
END:STANDARD
BEGIN:DAYLIGHT
TZOFFSETFROM:+0000
TZOFFSETTO:+0100
TZNAME:BST
DTSTART:20260329T010000
END:DAYLIGHT
BEGIN:STANDARD
TZOFFSETFROM:+0100
TZOFFSETTO:+0000
TZNAME:GMT
DTSTART:20261025T010000
END:STANDARD
END:VTIMEZONE
BEGIN:VEVENT
DTSTART;VALUE=DATE:20260302
DTEND;VALUE=DATE:20260304
DTSTAMP:20260425T193458
CREATED:20250807T151121Z
LAST-MODIFIED:20250807T151121Z
UID:2049-1772409600-1772582399@dtxhub.com
SUMMARY:European Digital Healthcare Excellence Forum
DESCRIPTION:Become a part of the digital transformation in your facility. Attend our exclusive event tailored for Board Members and Managing Directors of Clinics\, Hospitals\, Healthcare Facilities and Rehabilitation Centres. Over the course of two days\, engage in discussions with top professionals on digitizing the healthcare system. In an exclusive ambience\, learn how to future-proof your hospital and see best practice examples of how it’s done.
URL:https://dtxhub.com/event/european-digital-healthcare-excellence-forum/
LOCATION:The Steigenberger Hotel\, Ella-Trebe-Straße 5\, Berlin\, Berlin\, 10557\, Germany
CATEGORIES:Digital Health,Healthcare
ATTACH;FMTTYPE=image/png:https://dtxhub.com/wp-content/uploads/2025/08/European-Digital-Healthcare.png
END:VEVENT
BEGIN:VEVENT
DTSTART;VALUE=DATE:20251203
DTEND;VALUE=DATE:20251206
DTSTAMP:20260425T193458
CREATED:20250801T232528Z
LAST-MODIFIED:20250807T141612Z
UID:2000-1764720000-1764979199@dtxhub.com
SUMMARY:Global Digital Health Forum 2025
DESCRIPTION:The Global Digital Health Forum (GDHF) is the leading networking and relationship-building opportunity to connect government stakeholders\, digital health developers\, researchers\, donors\, implementers and field experts in public health and technology from across the globe.
URL:https://dtxhub.com/event/global-digital-health-forum-2025/
LOCATION:Trademark Hotel\, Village Market\, Limuru Rd\, Nairobi\, Kenya
CATEGORIES:Digital Health
ATTACH;FMTTYPE=image/png:https://dtxhub.com/wp-content/uploads/2025/08/Global-Digital-Health-Forum-2025.png
END:VEVENT
BEGIN:VEVENT
DTSTART;VALUE=DATE:20251124
DTEND;VALUE=DATE:20251126
DTSTAMP:20260425T193458
CREATED:20250807T142421Z
LAST-MODIFIED:20250807T142518Z
UID:2040-1763942400-1764115199@dtxhub.com
SUMMARY:Digital Health World Congress 2025
DESCRIPTION:The Digital Health World Congress is a pivotal event in the healthcare industry\, renowned for its influential role in shaping the future of digital health. The conference serves as a global hub for healthcare professionals\, industry leaders\, and innovators to converge and explore cutting-edge advancements in AI health technology.
URL:https://dtxhub.com/event/digital-health-world-congress-2025/
LOCATION:The Great Hall\, Kensington Conference and Events Centre\, Hornton Street\, Kensington\, London\, London\, W8 7NX\, United Kingdom
CATEGORIES:Digital Health
ATTACH;FMTTYPE=image/png:https://dtxhub.com/wp-content/uploads/2025/08/digital-health-world-congress-2025.png
END:VEVENT
END:VCALENDAR