BEGIN:VCALENDAR
VERSION:2.0
PRODID:-//Digital Therapeutics Hub - ECPv6.15.20//NONSGML v1.0//EN
CALSCALE:GREGORIAN
METHOD:PUBLISH
X-ORIGINAL-URL:https://dtxhub.com
X-WR-CALDESC:Events for Digital Therapeutics Hub
REFRESH-INTERVAL;VALUE=DURATION:PT1H
X-Robots-Tag:noindex
X-PUBLISHED-TTL:PT1H
BEGIN:VTIMEZONE
TZID:Europe/Moscow
BEGIN:STANDARD
TZOFFSETFROM:+0300
TZOFFSETTO:+0300
TZNAME:MSK
DTSTART:20240101T000000
END:STANDARD
END:VTIMEZONE
BEGIN:VEVENT
DTSTART;VALUE=DATE:20251203
DTEND;VALUE=DATE:20251206
DTSTAMP:20260426T040032
CREATED:20250801T232528Z
LAST-MODIFIED:20250807T141612Z
UID:2000-1764720000-1764979199@dtxhub.com
SUMMARY:Global Digital Health Forum 2025
DESCRIPTION:The Global Digital Health Forum (GDHF) is the leading networking and relationship-building opportunity to connect government stakeholders\, digital health developers\, researchers\, donors\, implementers and field experts in public health and technology from across the globe.
URL:https://dtxhub.com/event/global-digital-health-forum-2025/
LOCATION:Trademark Hotel\, Village Market\, Limuru Rd\, Nairobi\, Kenya
CATEGORIES:Digital Health
ATTACH;FMTTYPE=image/png:https://dtxhub.com/wp-content/uploads/2025/08/Global-Digital-Health-Forum-2025.png
END:VEVENT
END:VCALENDAR